BEGIN:VCALENDAR
VERSION:2.0
PRODID:-//Stiftung Florinskirche - ECPv6.15.20//NONSGML v1.0//EN
CALSCALE:GREGORIAN
METHOD:PUBLISH
X-WR-CALNAME:Stiftung Florinskirche
X-ORIGINAL-URL:https://www.stiftung-florinskirche.de
X-WR-CALDESC:Veranstaltungen für Stiftung Florinskirche
REFRESH-INTERVAL;VALUE=DURATION:PT1H
X-Robots-Tag:noindex
X-PUBLISHED-TTL:PT1H
BEGIN:VTIMEZONE
TZID:Europe/Berlin
BEGIN:DAYLIGHT
TZOFFSETFROM:+0100
TZOFFSETTO:+0200
TZNAME:CEST
DTSTART:20230326T010000
END:DAYLIGHT
BEGIN:STANDARD
TZOFFSETFROM:+0200
TZOFFSETTO:+0100
TZNAME:CET
DTSTART:20231029T010000
END:STANDARD
BEGIN:DAYLIGHT
TZOFFSETFROM:+0100
TZOFFSETTO:+0200
TZNAME:CEST
DTSTART:20240331T010000
END:DAYLIGHT
BEGIN:STANDARD
TZOFFSETFROM:+0200
TZOFFSETTO:+0100
TZNAME:CET
DTSTART:20241027T010000
END:STANDARD
BEGIN:DAYLIGHT
TZOFFSETFROM:+0100
TZOFFSETTO:+0200
TZNAME:CEST
DTSTART:20250330T010000
END:DAYLIGHT
BEGIN:STANDARD
TZOFFSETFROM:+0200
TZOFFSETTO:+0100
TZNAME:CET
DTSTART:20251026T010000
END:STANDARD
END:VTIMEZONE
BEGIN:VEVENT
DTSTART;TZID=Europe/Berlin:20241211T170000
DTEND;TZID=Europe/Berlin:20241211T170000
DTSTAMP:20260420T164614
CREATED:20241113T135652Z
LAST-MODIFIED:20241121T184936Z
UID:3312-1733936400-1733936400@www.stiftung-florinskirche.de
SUMMARY:Traditionelles Adventskonzert
DESCRIPTION:Heeresmusikkorps der Bundeswehr
URL:https://www.stiftung-florinskirche.de/veranstaltung/traditionelles-adventskonzert/
LOCATION:Florinskirche
END:VEVENT
END:VCALENDAR